BEGIN:VCALENDAR
VERSION:2.0
PRODID:XIII FEIRA DE GASTRONOMIA DA FREGUESIA DE VACARIÇA
X-WR-CALNAME:XIII FEIRA DE GASTRONOMIA DA FREGUESIA DE VACARIÇA
X-WR-TIMEZONE:Europe/Lisbon
X-PUBLISHED-TTL:P1W
BEGIN:VTIMEZONE
TZID:Europe/Lisbon
X-LIC-LOCATION:Europe/Lisbon
END:VTIMEZONE
BEGIN:VEVENT
UID:69eaa6e828229
DTSTART;VALUE=DATE:20230901
SEQUENCE:0
TRANSP:OPAQUE
DTEND;VALUE=DATE:20230902
SUMMARY:XIII FEIRA DE GASTRONOMIA DA FREGUESIA DE VACARIÇA
CLASS:PUBLIC
DESCRIPTION:XIII FEIRA DE GASTRONOMIA E ARTESANATO DA FREGUESIA DE VACARIÇ
 A
X-MICROSOFT-CDO-ALLDAYEVENT:TRUE
DTSTAMP:20260423T231032Z
END:VEVENT
END:VCALENDAR